BEGIN:VCALENDAR
VERSION:2.0
PRODID:-//ChamberMaster//Event Calendar 2.0//EN
METHOD:PUBLISH
X-PUBLISHED-TTL:P3D
REFRESH-INTERVAL:P3D
CALSCALE:GREGORIAN
BEGIN:VEVENT
DTSTART:20091205T003000Z
DTEND:20091204T180000Z
X-MICROSOFT-CDO-ALLDAYEVENT:FALSE
SUMMARY:BACC Annual Gala and Silent Auction 2009
DESCRIPTION:First South Credit Union\n\nproudly presents\n\n"DENIM & DIAMONDS"\n\nThe Annual Chamber Gala\n\n \n\n6:30 Heavy Hors d'ouvres & Silent Auction opens\n\n7:00 Musical Entertainment\n\n10:00 Silent Auction ends\n\n???? Dancing ends\n\n \n\nTo donate to the Silent Auction\, please contact Mary. MUST RSVP 372-9457.\n\n \n\nDOUBLE DIAMOND Sponsor: Saint Francis Hospital-Bartlett\n\nDiamond Sponsor: Magna Bank
X-ALT-DESC;FMTTYPE=text/html:<h1 style="text-align: center"><font size="4">First South Credit Union</font></h1>\n\n<h2 style="text-align: center"><font size="4">proudly presents</font></h2>\n\n<h1 style="text-align: center"><font size="4">&quot\;DENIM&nbsp\;&amp\;&nbsp\;DIAMONDS&quot\;</font></h1>\n\n<h2 style="text-align: center"><font size="4">The Annual Chamber Gala</font></h2>\n\n<div><span style="font-size: small">&nbsp\;</span></div>\n\n<div><span style="font-size: small">6:30&nbsp\;Heavy Hors d&rsquo\;ouvres&nbsp\;&amp\; Silent Auction opens</span></div>\n\n<div><span style="font-size: small">7:00&nbsp\;Musical Entertainment</span></div>\n\n<div><span style="font-size: small">10:00 Silent Auction ends</span></div>\n\n<div><span style="font-size: small">????&nbsp\;Dancing ends</span></div>\n\n<div><span style="font-size: small">&nbsp\;</span></div>\n\n<div><span style="font-size: small">To donate to the Silent Auction\, please contact Mary. MUST RSVP 372-9457.</span></div>\n\n<div><span style="font-size: small">&nbsp\;</span></div>\n\n<div><font size="2">DOUBLE DIAMOND&nbsp\;Sponsor: Saint Francis Hospital-Bartlett</font></div>\n\n<div><font size="2">Diamond&nbsp\;Sponsor: Magna Bank</font></div>\n
LOCATION:Holiday Inn & Suites 2751 New Brunswick
UID:e.105.13
SEQUENCE:3
DTSTAMP:20260419T160349Z
URL:https://business.bartlettchamber.org/events/details/bacc-annual-gala-and-silent-auction-2009-12-04-2009-13
END:VEVENT

END:VCALENDAR
