BEGIN:VCALENDAR
VERSION:2.0
PRODID:-//ChamberMaster//Event Calendar 2.0//EN
METHOD:PUBLISH
X-PUBLISHED-TTL:P3D
REFRESH-INTERVAL:P3D
CALSCALE:GREGORIAN
BEGIN:VEVENT
DTSTART:20090607T220000Z
DTEND:20090608T010000Z
X-MICROSOFT-CDO-ALLDAYEVENT:FALSE
SUMMARY:BACC Bartlett Ala Carte 2009
DESCRIPTION:20 restaurateurs will have their signature dishes available for tasting!\n\n\n	Applebee's\n	Brothers Grill & Seafood\n	Colonial Country Club\n	Cuauh's Hot Dog-O and Taco\n	Firebirds Wood Fired Grill\n	Jason's Deli\n	Jim's Place\n	LongHorn Steak House\n	O'Charley's\n	Premium Refreshment Service\n	Romano's Macaroni Grill\n	Sekisui of Bartlett\n	Sheridan's Frozen Custard\n	Texas Roadhouse\n\n\nPresented by Bartlett Area Chamber & Bartlett Cordova Rotary Club. Sponsored by Brother Industries (U.S.A.)\, Inc. and Brother International Corporation.\n\nSilent Auction to benefit Youth Villages.\n\n\nPurchase tickets Online https://www.securewebexchange.com/bartlettchamber.org/categories.php\n\nand pick up tickets at Chamber Office or at Will Call that evening.
X-ALT-DESC;FMTTYPE=text/html:<div><span style="font-family: &quot\;Times New Roman&quot\;\; font-size: 11pt\; mso-fareast-font-family: ?Times New Roman?\; mso-ansi-language: EN-US\; mso-fareast-language: EN-US\; mso-bidi-language: AR-SA"><font size="3">20 restaurateurs will have their signature dishes available for tasting!</font></span></div>\n\n<ul style="margin-top: 0in" type="disc">\n	<li style="margin: 0in 0in 0pt"><font size="3">Applebee&rsquo\;s</font></li>\n	<li style="margin: 0in 0in 0pt"><font size="3">Brothers Grill &amp\; Seafood</font></li>\n	<li style="margin: 0in 0in 0pt"><font size="3">Colonial Country Club</font></li>\n	<li style="margin: 0in 0in 0pt"><font size="3">Cuauh&rsquo\;s Hot Dog-O and Taco</font></li>\n	<li style="margin: 0in 0in 0pt"><font size="3">Firebirds Wood Fired Grill</font></li>\n	<li style="margin: 0in 0in 0pt"><font size="3">Jason&rsquo\;s Deli</font></li>\n	<li style="margin: 0in 0in 0pt"><font size="3">Jim&rsquo\;s Place</font></li>\n	<li style="margin: 0in 0in 0pt"><font size="3">LongHorn Steak House</font></li>\n	<li style="margin: 0in 0in 0pt"><font size="3">O&rsquo\;Charley&rsquo\;s</font></li>\n	<li style="margin: 0in 0in 0pt"><font size="3">Premium Refreshment Service</font></li>\n	<li style="margin: 0in 0in 0pt"><font size="3">Romano&rsquo\;s Macaroni Grill</font></li>\n	<li style="margin: 0in 0in 0pt"><font size="3">Sekisui of Bartlett</font></li>\n	<li style="margin: 0in 0in 0pt"><font size="3">Sheridan&rsquo\;s Frozen Custard</font></li>\n	<li style="margin: 0in 0in 0pt"><font size="3">Texas Roadhouse</font></li>\n</ul>\n\n<p><span style="font-family: &quot\;Times New Roman&quot\;\; font-size: 11pt\; mso-fareast-font-family: ?Times New Roman?\; mso-ansi-language: EN-US\; mso-fareast-language: EN-US\; mso-bidi-language: AR-SA"><font size="3">Presented by <st1:city w:st="on"><st1:place w:st="on">Bartlett</st1:place></st1:city> Area Chamber &amp\; Bartlett Cordova Rotary Club. Sponsored by Brother Industries (<st1:country-region w:st="on"><st1:place w:st="on">U.S.A.</st1:place></st1:country-region>)\, Inc. and Brother International Corporation.</font></span></p>\n\n<p><span style="font-family: &quot\;Times New Roman&quot\;\; font-size: 11pt\; mso-fareast-font-family: ?Times New Roman?\; mso-ansi-language: EN-US\; mso-fareast-language: EN-US\; mso-bidi-language: AR-SA"><font size="2">Silent Auction&nbsp\;to benefit Youth Villages.</font></span></p>\n\n<div>\n<div><span style="font-family: &quot\;Times New Roman&quot\;\; font-size: 11pt\; mso-fareast-font-family: ?Times New Roman?\; mso-ansi-language: EN-US\; mso-fareast-language: EN-US\; mso-bidi-language: AR-SA"><font size="1"><font size="2">Purchase tickets Online </font><a href="https://www.securewebexchange.com/bartlettchamber.org/categories.php"><font size="2">https://www.securewebexchange.com/bartlettchamber.org/categories.php</font></a></font></span></div>\n\n<div><span style="font-family: &quot\;Times New Roman&quot\;\; font-size: 11pt\; mso-fareast-font-family: ?Times New Roman?\; mso-ansi-language: EN-US\; mso-fareast-language: EN-US\; mso-bidi-language: AR-SA"><font size="1"><font size="2">and pick up tickets at Chamber Office or at Will Call that evening.</font></font></span></div>\n</div>\n
LOCATION:Colonial Country Club 2736 Countrywood Pkwy Cordova
UID:e.105.872
SEQUENCE:3
DTSTAMP:20260419T234127Z
URL:https://business.bartlettchamber.org/events/details/bacc-bartlett-ala-carte-2009-06-07-2009-872
END:VEVENT

END:VCALENDAR
