BEGIN:VCALENDAR
VERSION:2.0
PRODID:-//ChamberMaster//Event Calendar 2.0//EN
METHOD:PUBLISH
X-PUBLISHED-TTL:P3D
REFRESH-INTERVAL:P3D
CALSCALE:GREGORIAN
BEGIN:VEVENT
DTSTART:20080313T140000Z
DTEND:20080313T210000Z
X-MICROSOFT-CDO-ALLDAYEVENT:FALSE
SUMMARY:BACC Bartlett Business Expo 2008
DESCRIPTION:Come see over 80 businesses display their products and services. Lots of giveaways\, door prizes and entertainment. Admission is free. Presented by the Bartlett Area Chamber\, the City of Bartlett and Saint Francis Hospital-Bartlett.\n\n \n\nFree seminars for everyone during event\n\n \n\nFree shuttle from Bartlett Performing Arts and Conference Center all day!
X-ALT-DESC;FMTTYPE=text/html:<div>Come see over&nbsp\;80 businesses display their products and services. Lots of giveaways\, door prizes and entertainment. Admission is free. Presented by the Bartlett Area Chamber\, the City of Bartlett and Saint Francis Hospital-Bartlett.</div>\n\n<div>&nbsp\;</div>\n\n<div>Free seminars for everyone during event</div>\n\n<div>&nbsp\;</div>\n\n<div>Free shuttle from Bartlett Performing Arts and Conference Center all day!<br />\n<br />\n&nbsp\;</div>\n
LOCATION:Bartlett Recreation Center 7700 Flaherty Place (off Appling near Highway 70)
UID:e.105.80
SEQUENCE:3
DTSTAMP:20260420T215258Z
URL:https://business.bartlettchamber.org/events/details/bacc-bartlett-business-expo-2008-03-13-2008-80
END:VEVENT

END:VCALENDAR
