BEGIN:VCALENDAR
VERSION:2.0
PRODID:-//ChamberMaster//Event Calendar 2.0//EN
METHOD:PUBLISH
X-PUBLISHED-TTL:P3D
REFRESH-INTERVAL:P3D
CALSCALE:GREGORIAN
BEGIN:VEVENT
DTSTART:20070620T130000Z
DTEND:20070620T140000Z
X-MICROSOFT-CDO-ALLDAYEVENT:FALSE
SUMMARY:BACC Business Networking Coffee 2007
DESCRIPTION:Jumpstart your morning with some great networking!\n\n\n\nTake the 60-second Challenge!  At some point\, everyone will gather in a circle for each person to introduce themselves and give a quick overview of their business - all in 60 seconds!
X-ALT-DESC;FMTTYPE=text/html:Jumpstart your morning with some great networking!<br />\n<br />\nTake the 60-second Challenge!&nbsp\; At some point\, everyone will gather in a circle for each person to introduce themselves and give a quick overview of their business - all in 60 seconds!
LOCATION:Memphis Area Teachers' Credit Union 7845 Highway 64
UID:e.105.19
SEQUENCE:3
DTSTAMP:20260423T132400Z
URL:https://business.bartlettchamber.org/events/details/bacc-business-networking-coffee-2007-06-20-2007-19
END:VEVENT

END:VCALENDAR
