BEGIN:VCALENDAR
VERSION:2.0
PRODID:-//ChamberMaster//Event Calendar 2.0//EN
METHOD:PUBLISH
X-PUBLISHED-TTL:P3D
REFRESH-INTERVAL:P3D
CALSCALE:GREGORIAN
BEGIN:VEVENT
DTSTART:20070510T130000Z
DTEND:20070510T140000Z
X-MICROSOFT-CDO-ALLDAYEVENT:FALSE
SUMMARY:BACC Business Networking Coffee at AmeriSuites Hotel 05-10-2007
DESCRIPTION:Business Networking Coffee.  Open to members and non-members as well.  A great opportunity to meet and network with area business representatives and be able to give a one-minute presentation about your business.\n\n\n\nLight breakfast served. \n\n\n\nEllis Alvin\, Director of Sales\n\nFaith Andrews\, Sales Assistant\n\n371-0010
X-ALT-DESC;FMTTYPE=text/html:Business Networking Coffee.&nbsp\; Open to members and non-members as well.&nbsp\; A great opportunity to meet and&nbsp\;network with area business representatives&nbsp\;and be able to give a one-minute presentation about your business.<br />\n<br />\nLight breakfast served.&nbsp\;<br />\n<br />\nEllis Alvin\, Director of Sales<br />\nFaith Andrews\, Sales Assistant<br />\n371-0010
LOCATION:AmeriSuites 7905 Giacosa Place Cordova
UID:e.105.127
SEQUENCE:3
DTSTAMP:20260423T150238Z
URL:https://business.bartlettchamber.org/events/details/bacc-business-networking-coffee-at-amerisuites-hotel-05-10-2007-05-10-2007-127
END:VEVENT

END:VCALENDAR
