BEGIN:VCALENDAR
VERSION:2.0
PRODID:-//ChamberMaster//Event Calendar 2.0//EN
METHOD:PUBLISH
X-PUBLISHED-TTL:P3D
REFRESH-INTERVAL:P3D
CALSCALE:GREGORIAN
BEGIN:VEVENT
DTSTART:20090522T180000Z
DTEND:20090522T233000Z
X-MICROSOFT-CDO-ALLDAYEVENT:FALSE
SUMMARY:BACC Golf Tournament 05-22-2009
DESCRIPTION:Come play in the annual Saint Francis Hospital-Bartlett / Bartlett Chamber Golf Tournament! Held at Quail Ridge this year\, it's set to be a beautiful day at the golf course! Bring your employees\, customers\, family\, friends... whomever! Just be there!\n\n\n\n4-person scramble\n\n1:00p.m. shotgun start\n\nFee includes greens fees\, range balls before 1:00\, beverages on the course\, contests\, dinner afterwards\, door prizes\, goody bags\, awards\n\nMulligans\, Par 3 Poker and Putting Contest available\n\n1st\, 2nd and 3rd Place in 2 Flights\n\nContests: Hole-in-One\n\n                  Closest-to-the-Pin\n\n                  Closest-to-the-Water\n\n                  Longest Drive\n\n \n\nPlay with a Celebrity! $2\,500 gets you and two others on the course with a local celebrity!
X-ALT-DESC;FMTTYPE=text/html:<div>Come play in the annual <strong>Saint Francis Hospital-Bartlett / Bartlett Chamber Golf Tournament!</strong> Held at Quail Ridge this year\, it&rsquo\;s set to be a beautiful day at the golf course! Bring your employees\, customers\, family\, friends... whomever! Just&nbsp\;be there!<br />\n<br />\n4-person scramble<br />\n1:00p.m. shotgun start<br />\nFee includes greens fees\, range balls before 1:00\, beverages on the course\, contests\,&nbsp\;dinner afterwards\, door prizes\, goody bags\, awards<br />\nMulligans\, Par 3 Poker and Putting Contest available<br />\n1st\, 2nd and 3rd Place in 2 Flights<br />\nContests: Hole-in-One<br />\n&nbsp\;&nbsp\;&nbsp\;&nbsp\;&nbsp\;&nbsp\;&nbsp\;&nbsp\;&nbsp\;&nbsp\;&nbsp\;&nbsp\;&nbsp\;&nbsp\;&nbsp\;&nbsp\;&nbsp\; Closest-to-the-Pin<br />\n&nbsp\;&nbsp\;&nbsp\;&nbsp\;&nbsp\;&nbsp\;&nbsp\;&nbsp\;&nbsp\;&nbsp\;&nbsp\;&nbsp\;&nbsp\;&nbsp\;&nbsp\;&nbsp\;&nbsp\; Closest-to-the-Water<br />\n&nbsp\;&nbsp\;&nbsp\;&nbsp\;&nbsp\;&nbsp\;&nbsp\;&nbsp\;&nbsp\;&nbsp\;&nbsp\;&nbsp\;&nbsp\;&nbsp\;&nbsp\;&nbsp\;&nbsp\; Longest Drive</div>\n\n<div>&nbsp\;</div>\n\n<div>Play with a Celebrity! $2\,500 gets you and two others on the course with a local celebrity!</div>\n
LOCATION:Quial Ridge Golf Course
UID:e.105.120
SEQUENCE:3
DTSTAMP:20260420T010503Z
URL:https://business.bartlettchamber.org/events/details/bacc-golf-tournament-05-22-2009-05-22-2009-120
END:VEVENT

END:VCALENDAR
