BEGIN:VCALENDAR
VERSION:2.0
PRODID:-//ChamberMaster//Event Calendar 2.0//EN
METHOD:PUBLISH
X-PUBLISHED-TTL:P3D
REFRESH-INTERVAL:P3D
CALSCALE:GREGORIAN
BEGIN:VEVENT
DTSTART:20211221T223000Z
DTEND:20211222T003000Z
X-MICROSOFT-CDO-ALLDAYEVENT:FALSE
SUMMARY:BACC Holiday Open House 2021
DESCRIPTION:Celebrate the Season at the annual BACC Holiday Open House\n\nBACC Holiday Open House\n\nfor our members\n\n\n\nFood\, refreshments\, networking\n\nand holiday cheer!\n\n\n\nTuesday\, December 21\n\n\n\n4:30 to 6:30 p.m.\n\n\n\nBartlett Area Chamber Office\n\n2969 Elmore Park Rd\n\n(across from the Bartlett Post Office)\n\n \n\n\n\nIt's free and it's fun\, so stop by for a few minutes or\n\nstay the duration! \n\n\n\nTo RSVP or to donate a food item or door prize\, please contact\n\nGlen Mullins at 372-9457
X-ALT-DESC;FMTTYPE=text/html:<div style="text-align: center\;">\n<h1><span style="font-size:14px\;"><strong><font color="#ff0000"><span style="font-family: arial\;">Celebrate the Season at the annual BACC Holiday Open House</span></font></strong></span><br />\n<span style="font-weight: bold\; language: en-us\;"><span style="font-size: 28pt\;"><span style="color: rgb(192\, 0\, 0)\;"><span style="font-family: bradley hand itc\;">BACC Holiday Open House</span></span></span></span></h1>\n\n<p><span style="font-size: 14px\;"><span style="color: rgb(0\, 128\, 0)\;"><span style="font-size: 16px\;"><span style="font-size: 18px\;"><strong><span style="font-weight: bold\; language: en-us\;"><span style="font-size: 28pt\;"><span style="color: rgb(192\, 0\, 0)\;"><span style="font-family: bradley hand itc\;">for our members</span></span></span></span></strong></span></span></span><br />\n<br />\n<span style="font-size: 16px\;"><span style="font-family: verdana\;"><span style="language: en-us\;">Food\, refreshments\, networking<br />\nand holiday cheer!<br />\n<br />\nTuesday\, December 21</span><br />\n<br />\n<span style="language: en-us\;">4:30&nbsp\;to 6:30 p.m.</span><br />\n<br />\n<span style="language: en-us\;">Bartlett Area Chamber&nbsp\;Office<br />\n2969 Elmore Park Rd</span></span></span></span><br />\n<span style="font-size: 14px\;"><span style="font-size: 16px\;"><span style="font-size: 18px\;"><span style="language: en-us\;"><span style="font-size: 24pt\;"><span style="font-family: calibri\;"><span style="font-size: 14px\;"><span style="font-size: 16px\;"><span style="font-family: verdana\;">(across from the Bartlett Post Office)</span></span></span></span></span></span></span></span></span><br />\n&nbsp\;</p>\n\n<p><br />\n<span style="font-size: 16px\;"><span style="color: rgb(0\, 0\, 0)\;"><span style="font-family: verdana\;">It&#39\;s free and it&#39\;s fun\, so stop by for a few minutes or<br />\nstay the duration!&nbsp\;</span></span><br />\n<br />\n<span style="font-family: verdana\;">To RSVP or to donate a food item or door prize\, please contact<br />\nGlen Mullins&nbsp\;at 372-9457</span></span></p>\n\n<p style="text-align: center\;"><br />\n&nbsp\;</p>\n</div>\n
LOCATION:Bartlett Chamber Office 2969 Elmore Park Road (across from the Bartlett Post Office)
UID:e.105.8417
SEQUENCE:3
DTSTAMP:20260421T191709Z
URL:https://business.bartlettchamber.org/events/details/bacc-holiday-open-house-2021-8417
END:VEVENT

END:VCALENDAR
