BEGIN:VCALENDAR
VERSION:2.0
PRODID:-//ChamberMaster//Event Calendar 2.0//EN
METHOD:PUBLISH
X-PUBLISHED-TTL:P3D
REFRESH-INTERVAL:P3D
CALSCALE:GREGORIAN
BEGIN:VEVENT
DTSTART:20090811T163000Z
DTEND:20090811T180000Z
X-MICROSOFT-CDO-ALLDAYEVENT:FALSE
SUMMARY:BACC Monthly Lunch Meeting 08-12-2008
DESCRIPTION:Speaker:\n\nSponsor: Tennessee Baptist Children's Home\n\n \n\n$20 buffet. RSVP 372-9457
X-ALT-DESC;FMTTYPE=text/html:<div>Speaker:</div>\n\n<div>Sponsor: Tennessee Baptist Children&rsquo\;s Home</div>\n\n<div>&nbsp\;</div>\n\n<div>$20 buffet. RSVP 372-9457</div>\n
LOCATION:TBA
UID:e.105.520
SEQUENCE:3
DTSTAMP:20260419T205548Z
URL:https://business.bartlettchamber.org/events/details/bacc-monthly-lunch-meeting-08-12-2008-08-11-2009-520
END:VEVENT

END:VCALENDAR
