BEGIN:VCALENDAR
VERSION:2.0
PRODID:-//ChamberMaster//Event Calendar 2.0//EN
METHOD:PUBLISH
X-PUBLISHED-TTL:P3D
REFRESH-INTERVAL:P3D
CALSCALE:GREGORIAN
BEGIN:VEVENT
DTSTART:20090609T163000Z
DTEND:20090609T180000Z
X-MICROSOFT-CDO-ALLDAYEVENT:FALSE
SUMMARY:BACC Monthly Lunch Meeting 2011-06-11
DESCRIPTION:Join us for our Monthly Lunch
X-ALT-DESC;FMTTYPE=text/html:<div>Join us for our Monthly Lunch</div>\n
LOCATION:
UID:e.105.478
SEQUENCE:3
DTSTAMP:20260420T010606Z
URL:https://business.bartlettchamber.org/events/details/bacc-monthly-lunch-meeting-2011-06-11-06-09-2009-478
END:VEVENT

END:VCALENDAR
