BEGIN:VCALENDAR
VERSION:2.0
PRODID:-//ChamberMaster//Event Calendar 2.0//EN
METHOD:PUBLISH
X-PUBLISHED-TTL:P3D
REFRESH-INTERVAL:P3D
CALSCALE:GREGORIAN
BEGIN:VEVENT
DTSTART:20090714T163000Z
DTEND:20090714T180000Z
X-MICROSOFT-CDO-ALLDAYEVENT:FALSE
SUMMARY:BACC MonthlyLunch Meeting 2008-07-08
DESCRIPTION:Speaker: Kemmons Wilson\, Jr.\n\nSponsor: Memphis Funeral Home\n\n \n\n$20 buffet. Call 372-9457 to RSVP
X-ALT-DESC;FMTTYPE=text/html:<div><strong>Speaker: </strong>Kemmons Wilson\, Jr.</div>\n\n<div><strong>Sponsor:</strong> Memphis Funeral Home</div>\n\n<div>&nbsp\;</div>\n\n<div>$20 buffet. Call 372-9457 to RSVP</div>\n
LOCATION:Holiday Inn & Suites 2751 New Brunswick Road (down the street from Texas Roadhouse)
UID:e.105.499
SEQUENCE:3
DTSTAMP:20260419T220232Z
URL:https://business.bartlettchamber.org/events/details/bacc-monthlylunch-meeting-2008-07-08-07-14-2009-499
END:VEVENT

END:VCALENDAR
