BEGIN:VCALENDAR
VERSION:2.0
PRODID:-//ChamberMaster//Event Calendar 2.0//EN
METHOD:PUBLISH
X-PUBLISHED-TTL:P3D
REFRESH-INTERVAL:P3D
CALSCALE:GREGORIAN
BEGIN:VEVENT
DTSTART:20071020T180000Z
DTEND:20071020T200000Z
X-MICROSOFT-CDO-ALLDAYEVENT:FALSE
SUMMARY:Bartlett Bowl-A-Thon
DESCRIPTION:Benefiting the Bartlett Education Foundation\, this event is fun and supports our local schools! Businesses\, schools\, PTSAs\, and individuals may sponsor lanes\, bowlers\, prizes. 5 adult bowlers are on each lane for Cosmic Bowling. No competition - just plain fun! Get your group together and come bowl for the schools! The Bartlett Education Foundation is a 501(c)3 organization.
X-ALT-DESC;FMTTYPE=text/html:<div>Benefiting the Bartlett Education Foundation\, this event is fun and supports our local schools! Businesses\, schools\, PTSAs\, and individuals may sponsor lanes\, bowlers\, prizes. 5 adult bowlers are on each lane for Cosmic Bowling. No competition - just plain fun! Get your group together and come bowl for the schools!</div><div>&nbsp\;</div><div>The Bartlett Education Foundation is a 501(c)3 organization.</div>
LOCATION:Bartlett Lanes 6276 Stage Road
UID:e.105.23
SEQUENCE:3
DTSTAMP:20260421T054407Z
URL:https://business.bartlettchamber.org/events/details/bartlett-bowl-a-thon-10-20-2007-23
END:VEVENT

END:VCALENDAR
