BEGIN:VCALENDAR
VERSION:2.0
PRODID:-//ChamberMaster//Event Calendar 2.0//EN
METHOD:PUBLISH
X-PUBLISHED-TTL:P3D
REFRESH-INTERVAL:P3D
CALSCALE:GREGORIAN
BEGIN:VEVENT
DTSTART:20071201T230000Z
DTEND:20071202T013000Z
X-MICROSOFT-CDO-ALLDAYEVENT:FALSE
SUMMARY:Bartlett Christmas Parade
DESCRIPTION:The annual Christmas Parade featuring "The Joys ofChristmas'' will begin at 5:00 p.m. at Stage Road and Elmore Park Road and will continue to Shelby Street. Marching bands\, clowns\, floats\, antique cars\, horses and more will be there to kick-off the holiday season in Bartlett.\n\nPack the kids and get your favorite spot to watch the best parade in the Mid-South! Call 385-5589 for more information.\n\n \n\nStreet closings:\n\nline-up area on Stage Road\, Altruria and Elmore Park will close at 2:30\n\nactual parade route on Stage Road\, Elmore Park and Shelby Street will close at 4:30\n\n \n\nRain Date Sunday\, December 5 at 3:00
X-ALT-DESC;FMTTYPE=text/html:<p>The annual Christmas Parade featuring &quot\;The Joys ofChristmas&rsquo\;&rsquo\; will begin at 5:00 p.m. at Stage Road and Elmore Park Road and will continue to Shelby Street. Marching bands\, clowns\, floats\, antique cars\, horses and more will be there to kick-off the holiday season in Bartlett.</p>\n\n<p>Pack the kids and get your favorite spot to watch the best parade in the Mid-South! Call 385-5589 for more information.</p>\n\n<p>&nbsp\;</p>\n\n<p>Street closings:</p>\n\n<p>line-up area on Stage Road\, Altruria and Elmore Park will close at 2:30</p>\n\n<p>actual parade route on Stage Road\, Elmore Park and Shelby Street will close at 4:30</p>\n\n<p>&nbsp\;</p>\n\n<p>Rain Date Sunday\, December&nbsp\;5 at 3:00</p>\n
LOCATION:Along Stage Road from Elmore Park Road to Shelby Street
UID:e.105.71
SEQUENCE:3
DTSTAMP:20260421T023538Z
URL:https://business.bartlettchamber.org/events/details/bartlett-christmas-parade-12-01-2007-71
END:VEVENT

END:VCALENDAR
