BEGIN:VCALENDAR
VERSION:2.0
PRODID:-//ChamberMaster//Event Calendar 2.0//EN
METHOD:PUBLISH
X-PUBLISHED-TTL:P3D
REFRESH-INTERVAL:P3D
CALSCALE:GREGORIAN
BEGIN:VEVENT
DTSTART:20070415T000000Z
DTEND:20070415T020000Z
X-MICROSOFT-CDO-ALLDAYEVENT:FALSE
SUMMARY:Bartlett Community Concert Band
DESCRIPTION:Under the direction of Rhendle Millen in And That's What I Like About the South - Music of the South and Music about the South - Blues\, jazz\, movie themes\, spirituals and rockabilly. Take a tour of the richly varied musical landscape of the Southern United States.
X-ALT-DESC;FMTTYPE=text/html:Under the direction of Rhendle Millen in <em>And That's What I Like About the South </em>- Music of the South and Music about the South - Blues\, jazz\, movie themes\, spirituals and rockabilly. Take a tour of the richly varied musical landscape of the Southern United States.
LOCATION:
UID:e.105.130
SEQUENCE:3
DTSTAMP:20260423T144941Z
URL:https://business.bartlettchamber.org/events/details/bartlett-community-concert-band-04-14-2007-130
END:VEVENT

END:VCALENDAR
