BEGIN:VCALENDAR
VERSION:2.0
PRODID:-//ChamberMaster//Event Calendar 2.0//EN
METHOD:PUBLISH
X-PUBLISHED-TTL:P3D
REFRESH-INTERVAL:P3D
CALSCALE:GREGORIAN
BEGIN:VEVENT
DTSTART:20080418T230000Z
DTEND:20080419T030000Z
X-MICROSOFT-CDO-ALLDAYEVENT:FALSE
SUMMARY:Bartlett Community Night at Memphis Redbirds
DESCRIPTION:Come support the Memphis Redbirds while Bartlett has a spotlight on them! Special Bartlett Attractions:Performances by Bartlett dance teamsPre-game parade of Bartlett youth teamsCommunity Expo Booths in Entry PlazaGoing Green Day Memphis Redbirds vs. Albuquerque Isotopes
X-ALT-DESC;FMTTYPE=text/html:<div>Come support the Memphis Redbirds while Bartlett has a spotlight on them!</div><div>&nbsp\;</div><div>Special Bartlett Attractions:</div><ul><li>Performances by Bartlett dance teams</li><li>Pre-game parade of Bartlett youth teams</li><li>Community Expo Booths in Entry Plaza</li><li>Going Green Day</li></ul><div>&nbsp\;</div><div>Memphis Redbirds vs. Albuquerque Isotopes</div>
LOCATION:AutoZone Park
UID:e.105.791
SEQUENCE:3
DTSTAMP:20260420T203702Z
URL:https://business.bartlettchamber.org/events/details/bartlett-community-night-at-memphis-redbirds-04-18-2008-791
END:VEVENT

END:VCALENDAR
