BEGIN:VCALENDAR
VERSION:2.0
PRODID:-//ChamberMaster//Event Calendar 2.0//EN
METHOD:PUBLISH
X-PUBLISHED-TTL:P3D
REFRESH-INTERVAL:P3D
CALSCALE:GREGORIAN
BEGIN:VEVENT
DTSTART:20070910T173000Z
DTEND:20070910T233000Z
X-MICROSOFT-CDO-ALLDAYEVENT:FALSE
SUMMARY:Bartlett/Cordova Rotary Club Golf Tournament
DESCRIPTION:The annual Golf Tournament to benefit the Bartlett/Cordova Rotary Club Scholarship Fund.\n4-person scramble (limit 36 teams)\nLunch and Dinner\n3 Flights\, multiple places\nSilent Auction\nDoor Prizes\nMulligans\n\nSponsorships available
X-ALT-DESC;FMTTYPE=text/html:The annual Golf Tournament to benefit the Bartlett/Cordova Rotary Club Scholarship Fund.<br />4-person scramble (limit 36 teams)<br />Lunch and Dinner<br />3 Flights\, multiple places<br />Silent Auction<br />Door Prizes<br />Mulligans<br /><br />Sponsorships available
LOCATION:Colonial Country Club South Course
UID:e.105.154
SEQUENCE:3
DTSTAMP:20260421T072329Z
URL:https://business.bartlettchamber.org/events/details/bartlett-cordova-rotary-club-golf-tournament-09-10-2007-154
END:VEVENT

END:VCALENDAR
