BEGIN:VCALENDAR
VERSION:2.0
PRODID:-//ChamberMaster//Event Calendar 2.0//EN
METHOD:PUBLISH
X-PUBLISHED-TTL:P3D
REFRESH-INTERVAL:P3D
CALSCALE:GREGORIAN
BEGIN:VEVENT
DTSTART;VALUE=DATE:20080926
DTEND;VALUE=DATE:20080928
TRANSP:TRANSPARENT
X-MICROSOFT-CDO-ALLDAYEVENT:TRUE
SUMMARY:Bartlett Festival
DESCRIPTION:Entertainment\, games\, rides\, booths\, concessions...it's all at the Bartlett Festival!Friday night is the Annual Balloon Glow where hot air balloons tether in the darkened sky\, a midway carnival and live music!Saturday is packed with fun and many things to do and see. Amateur BBQ Cooking Contest\, 2 musical stages\,arts & crafts\, a classic acar show\, a children's area\, business vendors\, concessions.Bring the whole family!
X-ALT-DESC;FMTTYPE=text/html:<p>Entertainment\, games\, rides\, booths\, concessions...it&rsquo\;s all at the Bartlett Festival!</p><p>Friday night is the Annual Balloon Glow where hot air balloons tether in the darkened sky\, a midway carnival and live music!</p><p>Saturday is packed with fun and many things to do and see. Amateur BBQ Cooking Contest\, 2 musical stages\,arts &amp\; crafts\, a classic acar show\, a children&rsquo\;s area\, business vendors\, concessions.</p><p>Bring the whole family!</p>
LOCATION:WJ Freeman Park Bartlett Blvd. at Bartlett Riad
UID:e.105.216
SEQUENCE:3
DTSTAMP:20260420T124945Z
URL:https://business.bartlettchamber.org/events/details/bartlett-festival-09-26-2008-216
END:VEVENT

END:VCALENDAR
