BEGIN:VCALENDAR
VERSION:2.0
PRODID:-//ChamberMaster//Event Calendar 2.0//EN
METHOD:PUBLISH
X-PUBLISHED-TTL:P3D
REFRESH-INTERVAL:P3D
CALSCALE:GREGORIAN
BEGIN:VEVENT
DTSTART:20080503T170000Z
DTEND:20080504T030000Z
X-MICROSOFT-CDO-ALLDAYEVENT:FALSE
SUMMARY:Block Party 2008
DESCRIPTION:Frigid temps\, snow\, rain - can spring and summer come fast enough? Hold on - celebrate the blooming of spring and the eve of summer with the 2008 Block Party!This year's party will include:\nGames\, Moon Bounce\, Slide\nPet Show\, "Twinkie" Eating Contest\, Cookie Stacking Contest\n"It's the Pits" Barbeque Rib ContestMusic featuring the Bartlett Community Band at 5:00 and the Eddie Harris Group from 7:00-10:00 \nMusic Sponsored by Performance Contracting Inc.Local Food Vendors on site: Pig-N-Whistle\; Coletta's\; Granberry's Burgers & More\; Pronto-Pups\; McBryde's Sweets\; Lickety-Split Ice CreamSponsors:\nPerformance Contracting\, Inc.\nJim Webb Insurance Co\nLandscape Services Group\nUpchurch Services - HVAC\nHyatt Place Memphis/Wolfchase Galleria\nStudio 6\nThe MarriottFor Sponsorship Opportunities call 373-6011
X-ALT-DESC;FMTTYPE=text/html:<p><font color="#000080">Frigid temps\, snow\, rain - can spring and summer come fast enough? Hold on - celebrate the blooming of spring and the eve of summer with the 2008 Block Party!</font></p><div><font color="#ff3300" size="1">This year&rsquo\;s party will include:<br />Games\, Moon Bounce\, Slide<br />Pet Show\, &quot\;Twinkie&quot\; Eating Contest\, Cookie Stacking Contest<br />&quot\;It&rsquo\;s the Pits&quot\; Barbeque Rib Contest</font></div><p align="center"><em><font color="#ff3300">Music featuring the Bartlett Community Band at 5:00 and the Eddie Harris Group from 7:00-10:00 <br />Music Sponsored by Performance Contracting Inc.</font></em></p><p><font color="#ff3300">Local Food Vendors on site: Pig-N-Whistle\; Coletta&rsquo\;s\; Granberry&rsquo\;s Burgers &amp\; More\; Pronto-Pups\; McBryde&rsquo\;s Sweets\; Lickety-Split Ice Cream</font></p><p align="center"><font size="2"><font color="#3366ff">Sponsors:<br /><font size="2">Performance Contracting\, Inc.</font></font><font size="1"><br /><font color="#3366ff">Jim Webb Insurance Co<br />Landscape Services Group<br />Upchurch Services - HVAC<br />Hyatt Place Memphis/Wolfchase Galleria<br />Studio 6<br />The Marriott</font></font></font></p><p align="center"><font size="1">For Sponsorship Opportunities call 373-6011</font></p><p>&nbsp\;</p>
LOCATION:St. Ann Catholic Church6529 Stage RoadBartlett
UID:e.105.56
SEQUENCE:3
DTSTAMP:20260420T185444Z
URL:https://business.bartlettchamber.org/events/details/block-party-2008-05-03-2008-56
END:VEVENT

END:VCALENDAR
