BEGIN:VCALENDAR
VERSION:2.0
PRODID:-//ChamberMaster//Event Calendar 2.0//EN
METHOD:PUBLISH
X-PUBLISHED-TTL:P3D
REFRESH-INTERVAL:P3D
CALSCALE:GREGORIAN
BEGIN:VEVENT
DTSTART:20220811T220000Z
DTEND:20220812T000000Z
X-MICROSOFT-CDO-ALLDAYEVENT:FALSE
SUMMARY:Business After Hours
DESCRIPTION:Business After Hours at Ave Maria\n\n\nCome join us for an evening of food\, wine\, and fun in one of the model "Greenhouses" at Ave Maria. Located within Ave Maria's Showcase Center\, you will be treated to live music and a deliciously catered light buffet.\n\n\n\nWould you like to showcase your business that evening? Feel free to bring prizes or giveaways--and everyone should bring plenty of biz cards!\n\n\n\nIf you have questions call Glen Mullins a 372-9457 or email him at gmullins@bartlettchamber.org
X-ALT-DESC;FMTTYPE=text/html:<div style="text-align: center\;"><span style="font-size:14px\;"><strong>Business After Hours at Ave Maria</strong></span></div>\n<br />\nCome join us for an evening of food\, wine\, and fun in one of the model &quot\;Greenhouses&quot\; at Ave Maria. Located within Ave Maria&#39\;s Showcase Center\, you will be treated to live music and a deliciously catered light buffet.<br />\n<br />\nWould you like to showcase your business that evening? Feel free to bring prizes or giveaways--and everyone should bring plenty of biz cards!<br />\n<br />\nIf you have questions call Glen Mullins a 372-9457 or email him at gmullins@bartlettchamber.org
LOCATION:
UID:e.105.8448
SEQUENCE:3
DTSTAMP:20260420T155800Z
URL:https://business.bartlettchamber.org/events/details/business-after-hours-8448
END:VEVENT

END:VCALENDAR
