BEGIN:VCALENDAR
VERSION:2.0
PRODID:-//ChamberMaster//Event Calendar 2.0//EN
METHOD:PUBLISH
X-PUBLISHED-TTL:P3D
REFRESH-INTERVAL:P3D
CALSCALE:GREGORIAN
BEGIN:VEVENT
DTSTART:20080326T130000Z
DTEND:20080326T140000Z
X-MICROSOFT-CDO-ALLDAYEVENT:FALSE
SUMMARY:Business Networking Coffee at Carestone Assisted Living at Bartlett
DESCRIPTION:Come for a little breakfast and a lot of networking!  Take the 60-Second Challenge - everyone will gather in a circle for each person to introduce themselves and give a quick overview of their business - all in 60 seconds!
X-ALT-DESC;FMTTYPE=text/html:<p>Come for a little breakfast and a lot of networking!&nbsp\;&nbsp\;Take the 60-Second&nbsp\;Challenge -&nbsp\;everyone will gather in a circle for each person to introduce themselves and give a quick overview of their business - all in 60 seconds!</p>
LOCATION:3345 Kirby Whitten ParkwayBartlett\, TN 38134
UID:e.105.726
SEQUENCE:3
DTSTAMP:20260420T214557Z
URL:https://business.bartlettchamber.org/events/details/business-networking-coffee-at-carestone-assisted-living-at-bartlett-03-26-2008-726
END:VEVENT

END:VCALENDAR
