BEGIN:VCALENDAR
VERSION:2.0
PRODID:-//ChamberMaster//Event Calendar 2.0//EN
METHOD:PUBLISH
X-PUBLISHED-TTL:P3D
REFRESH-INTERVAL:P3D
CALSCALE:GREGORIAN
BEGIN:VEVENT
DTSTART:20080522T130000Z
DTEND:20080522T140000Z
X-MICROSOFT-CDO-ALLDAYEVENT:FALSE
SUMMARY:Business Networking Coffee at Firebirds Wood Fired Grill
DESCRIPTION:Jumpstart your morning with some great networking!\n\nTake the 60-second Challenge!  At some point\, everyone will gather in a circle for each person to introduce themselves and give a quick overview of their business - all in 60 seconds!
X-ALT-DESC;FMTTYPE=text/html:Jumpstart your morning with some great networking!<br /><br />Take the 60-second Challenge!&nbsp\; At some point\, everyone will gather in a circle for each person to introduce themselves and give a quick overview of their business - all in 60 seconds!
LOCATION:Firebirds Wood Fired Grill8470 Hwy 64Bartlett\, TN 38133379-1300
UID:e.105.875
SEQUENCE:3
DTSTAMP:20260420T201938Z
URL:https://business.bartlettchamber.org/events/details/business-networking-coffee-at-firebirds-wood-fired-grill-05-22-2008-875
END:VEVENT

END:VCALENDAR
