BEGIN:VCALENDAR
VERSION:2.0
PRODID:-//ChamberMaster//Event Calendar 2.0//EN
METHOD:PUBLISH
X-PUBLISHED-TTL:P3D
REFRESH-INTERVAL:P3D
CALSCALE:GREGORIAN
BEGIN:VEVENT
DTSTART:20090613T220000Z
DTEND:20090614T023000Z
X-MICROSOFT-CDO-ALLDAYEVENT:FALSE
SUMMARY:Catfish & Jazz Festival in Olde Bartlett
DESCRIPTION:Come join the fun at this free street festival featuring a catfish cooking competition\, jazz festival\, and a display of vintage and interesting motorcycles! To compete in the catfish cooking competition (which will feature categories: fried catfish\, hush puppies and "anything" catfish) there will be a $25.00 entry fee. There will be a City of Bartlett firetruck for the children to explore. The music stage will be at the gazebo in Dixon-Brewer Park  with the motorcycle display along the east side of Court. Come here the Navy Jazz Band and local jazz band Voodoo Village.  Concessions will be available for purchase throughout the day. This day of fun is sponsored by the Bartlett Station Commission\, Bartlett Historical Society and the Bartlett Preservation Commission.
X-ALT-DESC;FMTTYPE=text/html:<div>Come join the fun at this free&nbsp\;street festival featuring a catfish cooking competition\, jazz festival\, and a display of vintage and interesting motorcycles!</div><div>&nbsp\;</div><div>To compete in the catfish cooking competition (which will feature categories: fried catfish\, hush puppies and &quot\;anything&quot\; catfish) there will be a $25.00 entry fee.</div><div>&nbsp\;</div><div>There will be a City of Bartlett firetruck for the children to explore. The music stage will be at&nbsp\;the gazebo in Dixon-Brewer Park &nbsp\;with the motorcycle display along the east side of Court. Come here the Navy Jazz Band and local jazz band Voodoo Village.</div><div>&nbsp\;</div><div>&nbsp\;Concessions will be&nbsp\;available for purchase throughout the day.</div><div>&nbsp\;</div><div>This day of fun is sponsored by the Bartlett Station Commission\, Bartlett Historical Society and the Bartlett Preservation Commission.</div>
LOCATION:In the Bartlett Station area of town\, Court Street at Stage north to Woodlawn will be barricaded to driving traffic to allow pedestrians to wander through the festival to hear the jazz and smell the catfish competitors cook their secret recipes.
UID:e.105.731
SEQUENCE:3
DTSTAMP:20260420T010545Z
URL:https://business.bartlettchamber.org/events/details/catfish-jazz-festival-in-olde-bartlett-06-13-2009-731
END:VEVENT

END:VCALENDAR
