BEGIN:VCALENDAR
VERSION:2.0
PRODID:-//ChamberMaster//Event Calendar 2.0//EN
METHOD:PUBLISH
X-PUBLISHED-TTL:P3D
REFRESH-INTERVAL:P3D
CALSCALE:GREGORIAN
BEGIN:VEVENT
DTSTART:20220825T133000Z
DTEND:20220826T030000Z
X-MICROSOFT-CDO-ALLDAYEVENT:FALSE
SUMMARY:Chamber 101 - 8-25-22
DESCRIPTION:New Member Orientation\n\n \nCome learn about the Bartlett Area Chamber of Commerce--our history\, our programs and events\, and everything we have to offer our members. Plus\, you'll get a short overview of ChamberMaster\, our membership database.\n\n \n\nIn this session you'll learn how to make the Chamber work for you and your business!
X-ALT-DESC;FMTTYPE=text/html:<div style="text-align: center\;"><span style="font-family:tahoma\;"><span style="text-align: center\; background-image: none\; background-position: initial\; background-size: initial\; background-repeat: initial\; background-attachment: initial\; background-origin: initial\; background-clip: initial\; margin: 0px\; padding: 0px\; border: medium none\; outline: currentcolor none 0px\; vertical-align: baseline\; inset: auto\; box-sizing: content-box\; clear: none\; color: rgb(68\, 68\, 68)\; content: normal\; direction: inherit\; empty-cells: show\; font-variant-numeric: inherit\; font-variant-east-asian: inherit\; font-stretch: inherit\; line-height: inherit\; max-height: none\; max-width: none\; min-height: initial\; min-width: initial\; opacity: 1\; outline-offset: 0px\; overflow: visible\; position: static\; resize: none\; table-layout: auto\; text-overflow: clip\; visibility: inherit\; word-break: inherit\; overflow-wrap: inherit\; z-index: auto\; border-collapse: separate\; border-radius: 0px\; height: auto\; width: auto\; box-shadow: none\;"><span border-collapse:="" border-radius:="" box-shadow:="" comic="" height:="" letter-spacing:="" line-height:="" max-height:="" max-width:="" min-height:="" min-width:="" opacity:="" outline-offset:="" overflow-wrap:="" overflow:="" position:="" resize:="" sans="" style="margin: 0px\; padding: 0px\; border: medium none\; outline: currentcolor none 0px\; vertical-align: baseline\; background: rgba(0\, 0\, 0\, 0) none repeat scroll 0% 0%\; inset: auto\; box-sizing: content-box\; clear: none\; color: inherit\; content: normal\; direction: inherit\; empty-cells: show\; font-style: inherit\; font-variant: inherit\; font-weight: inherit\; font-stretch: inherit\;" table-layout:="" text-align:="" text-indent:="" text-overflow:="" text-transform:="" visibility:="" white-space:="" width:="" word-break:="" word-spacing:="" z-index:=""><span style="margin: 0px\; padding: 0px\; border: medium none\; outline: currentcolor none 0px\; vertical-align: baseline\; background: rgba(0\, 0\, 0\, 0) none repeat scroll 0% 0%\; inset: auto\; box-sizing: content-box\; clear: none\; color: inherit\; content: normal\; direction: inherit\; empty-cells: show\; font-style: inherit\; font-variant: inherit\; font-weight: bolder\; font-stretch: inherit\; letter-spacing: inherit\; line-height: inherit\; max-height: none\; max-width: none\; min-height: initial\; min-width: initial\; opacity: 1\; outline-offset: 0px\; overflow: visible\; position: static\; resize: none\; table-layout: auto\; text-align: inherit\; text-indent: inherit\; text-overflow: clip\; text-transform: inherit\; visibility: inherit\; white-space: inherit\; word-break: inherit\; word-spacing: inherit\; overflow-wrap: inherit\; z-index: auto\; border-collapse: separate\; border-radius: 0px\; height: auto\; width: auto\; box-shadow: none\;"><span style="font-family:times new roman\;">New Member Orientation</span></span></span></span></span><br>\n&nbsp\;</div>\n<span style="font-family:times new roman\;"><span style="text-align: center\; background-image: none\; background-position: initial\; background-size: initial\; background-repeat: initial\; background-attachment: initial\; background-origin: initial\; background-clip: initial\; margin: 0px\; padding: 0px\; border: medium none\; outline: currentcolor none 0px\; vertical-align: baseline\; inset: auto\; box-sizing: content-box\; clear: none\; color: rgb(68\, 68\, 68)\; content: normal\; direction: inherit\; empty-cells: show\; font-variant-numeric: inherit\; font-variant-east-asian: inherit\; font-stretch: inherit\; line-height: inherit\; max-height: none\; max-width: none\; min-height: initial\; min-width: initial\; opacity: 1\; outline-offset: 0px\; overflow: visible\; position: static\; resize: none\; table-layout: auto\; text-overflow: clip\; visibility: inherit\; word-break: inherit\; overflow-wrap: inherit\; z-index: auto\; border-collapse: separate\; border-radius: 0px\; height: auto\; width: auto\; box-shadow: none\;"><span border-collapse:="" border-radius:="" box-shadow:="" comic="" height:="" letter-spacing:="" line-height:="" max-height:="" max-width:="" min-height:="" min-width:="" opacity:="" outline-offset:="" overflow-wrap:="" overflow:="" position:="" resize:="" sans="" style="margin: 0px\; padding: 0px\; border: medium none\; outline: currentcolor none 0px\; vertical-align: baseline\; background: rgba(0\, 0\, 0\, 0) none repeat scroll 0% 0%\; inset: auto\; box-sizing: content-box\; clear: none\; color: inherit\; content: normal\; direction: inherit\; empty-cells: show\; font-style: inherit\; font-variant: inherit\; font-weight: inherit\; font-stretch: inherit\;" table-layout:="" text-align:="" text-indent:="" text-overflow:="" text-transform:="" visibility:="" white-space:="" width:="" word-break:="" word-spacing:="" z-index:="">Come learn about the Bartlett Area Chamber of Commerce--our history\, our programs and events\, and everything we have to offer our members. Plus\, you'll get a short overview of ChamberMaster\, our membership database.</span></span><br>\n<span style="text-align: center\; background-image: none\; background-position: initial\; background-size: initial\; background-repeat: initial\; background-attachment: initial\; background-origin: initial\; background-clip: initial\; margin: 0px\; padding: 0px\; border: medium none\; outline: currentcolor none 0px\; vertical-align: baseline\; inset: auto\; box-sizing: content-box\; clear: none\; color: rgb(68\, 68\, 68)\; content: normal\; direction: inherit\; empty-cells: show\; font-variant-numeric: inherit\; font-variant-east-asian: inherit\; font-stretch: inherit\; line-height: inherit\; max-height: none\; max-width: none\; min-height: initial\; min-width: initial\; opacity: 1\; outline-offset: 0px\; overflow: visible\; position: static\; resize: none\; table-layout: auto\; text-overflow: clip\; visibility: inherit\; word-break: inherit\; overflow-wrap: inherit\; z-index: auto\; border-collapse: separate\; border-radius: 0px\; height: auto\; width: auto\; box-shadow: none\;">&nbsp\;<br>\nIn this session you'll learn how to make the Chamber work for you and your business!</span></span>
LOCATION:2969 Elmore Park Road Bartlett Tennessee 38134
UID:e.105.8450
SEQUENCE:3
DTSTAMP:20260420T160712Z
URL:https://business.bartlettchamber.org/events/details/chamber-101-8-25-22-8450
END:VEVENT

END:VCALENDAR
