BEGIN:VCALENDAR
VERSION:2.0
PRODID:-//ChamberMaster//Event Calendar 2.0//EN
METHOD:PUBLISH
X-PUBLISHED-TTL:P3D
REFRESH-INTERVAL:P3D
CALSCALE:GREGORIAN
BEGIN:VEVENT
DTSTART:20251105T143000Z
DTEND:20251105T160000Z
X-MICROSOFT-CDO-ALLDAYEVENT:FALSE
SUMMARY:Chamber 101
DESCRIPTION:Chamber 101: Unlock the Full Potential of Your Bartlett Chamber Membership\n\nWelcome to the Bartlett Chamber! Chamber 101 is your go-to orientation for discovering all the benefits and tools available to you as a valued member. During this interactive session\, you'll receive a comprehensive overview of your membership perks and learn how to navigate the members-only portal\, ChamberMaster.\n\nThrough this quarterly event\, you'll gain insights on how to:\n\n\n	Post news\, job openings\, and events to showcase your business.\n	Maximize your visibility and connect with other Chamber members.\n	Stay informed about upcoming Chamber initiatives and opportunities.\n\n\nWhether you're a new member or simply want a refresher\, Chamber 101 ensures you're fully equipped to make the most of your membership. Join us and unlock the full potential of being a part of the Bartlett Chamber community!
X-ALT-DESC;FMTTYPE=text/html:<h4 data-end="80" data-start="0"><span style="font-size:16px\;">Chamber 101: Unlock the Full Potential of Your Bartlett Chamber Membership</span></h4>\n\n<p data-end="398" data-start="82"><span style="font-size:16px\;">Welcome to the Bartlett Chamber! Chamber 101 is your go-to orientation for discovering all the benefits and tools available to you as a valued member. During this interactive session\, you&#39\;ll receive a comprehensive overview of your membership perks and learn how to navigate the members-only portal\, ChamberMaster.</span></p>\n\n<h5 data-end="461" data-start="400"><span style="font-size:16px\;">Through this quarterly event\, you&#39\;ll gain insights on how to:</span></h5>\n\n<ul data-end="669" data-start="462">\n	<li data-end="528" data-start="462"><span style="font-size:16px\;">Post news\, job openings\, and events to showcase your business.</span></li>\n	<li data-end="597" data-start="529"><span style="font-size:16px\;">Maximize your visibility and connect with other Chamber members.</span></li>\n	<li data-end="669" data-start="598"><span style="font-size:16px\;">Stay informed about upcoming Chamber initiatives and opportunities.</span></li>\n</ul>\n\n<div data-end="894" data-is-last-node="" data-is-only-node="" data-start="671"><span style="font-size:16px\;">Whether you&#39\;re a new member or simply want a refresher\, Chamber 101 ensures you&rsquo\;re fully equipped to make the most of your membership. Join us and unlock the full potential of being a part of the Bartlett Chamber community!</span></div>\n\n<div data-end="894" data-is-last-node="" data-is-only-node="" data-start="671">&nbsp\;</div>\n\n<div data-end="894" data-is-last-node="" data-is-only-node="" data-start="671">&nbsp\;</div>\n
LOCATION:BARTLETT AREA CHAMBER OF COMMERCE OFFICE 2969 Elmore Park Rd. Bartlett\, TN 38134
UID:e.105.8710
SEQUENCE:3
DTSTAMP:20260424T185112Z
URL:https://business.bartlettchamber.org/events/details/chamber-101-8710
END:VEVENT

END:VCALENDAR
