BEGIN:VCALENDAR
VERSION:2.0
PRODID:-//ChamberMaster//Event Calendar 2.0//EN
METHOD:PUBLISH
X-PUBLISHED-TTL:P3D
REFRESH-INTERVAL:P3D
CALSCALE:GREGORIAN
BEGIN:VEVENT
DTSTART:20090210T230000Z
DTEND:20090210T230000Z
X-MICROSOFT-CDO-ALLDAYEVENT:FALSE
SUMMARY:Chamber Night with the RiverKings!
DESCRIPTION:RiverKings Hockey ... Check Us Out!! A special night for the Bartlett Area Chamber!  Mix and mingle and have fun! Copy this page and redeem at the entrance of the mixer to receive the discounted rate:$15 for Gold Level or $9 for Red Level Pre-Game Mixer from 5:00 - 7:00!Mixer includes appetizers from Applebee's-Horn Lake with complimentary Miller Lite and Coca-Cola products!  Cash bar.  (Must purchase ticket to attend Mixer.)Sponsored by Sycamore Bank You will need an invitation for each person in your party. Game time 7:05 p.m.
X-ALT-DESC;FMTTYPE=text/html:<div>RiverKings Hockey ... Check Us Out!!</div><div>&nbsp\;</div><div>A special night for the Bartlett Area Chamber!&nbsp\; Mix and mingle and have fun!</div><div>&nbsp\;</div><div>Copy this page and redeem at the entrance of the mixer to receive the discounted rate:</div><div>$15 for Gold Level or&nbsp\;$9 for Red Level</div><div>&nbsp\;</div><div><strong>Pre-Game Mixer from 5:00 - 7:00!</strong></div><div>Mixer includes appetizers from Applebee's-Horn Lake with complimentary&nbsp\;Miller Lite and Coca-Cola products!&nbsp\; Cash bar.&nbsp\; (Must purchase ticket to attend Mixer.)</div><div>Sponsored by Sycamore Bank</div><div>&nbsp\;</div><div>You will need an invitation for each person in your party.</div><div>&nbsp\;</div><div>Game time 7:05 p.m.</div>
LOCATION:DeSoto Civic Center4560 Venture DriveSouthaven\, MS 38671
UID:e.105.721
SEQUENCE:3
DTSTAMP:20260420T054524Z
URL:https://business.bartlettchamber.org/events/details/chamber-night-with-the-riverkings-02-10-2009-721
END:VEVENT

END:VCALENDAR
