BEGIN:VCALENDAR
VERSION:2.0
PRODID:-//ChamberMaster//Event Calendar 2.0//EN
METHOD:PUBLISH
X-PUBLISHED-TTL:P3D
REFRESH-INTERVAL:P3D
CALSCALE:GREGORIAN
BEGIN:VEVENT
DTSTART;VALUE=DATE:20091224
DTEND;VALUE=DATE:20091226
TRANSP:TRANSPARENT
X-MICROSOFT-CDO-ALLDAYEVENT:TRUE
SUMMARY:Chamber Office Closed for Christmas
DESCRIPTION:
X-ALT-DESC;FMTTYPE=text/html:
LOCATION:
UID:e.105.90
SEQUENCE:3
DTSTAMP:20260419T145318Z
URL:https://business.bartlettchamber.org/events/details/chamber-office-closed-for-christmas-12-24-2009-90
END:VEVENT

END:VCALENDAR
