BEGIN:VCALENDAR
VERSION:2.0
PRODID:-//ChamberMaster//Event Calendar 2.0//EN
METHOD:PUBLISH
X-PUBLISHED-TTL:P3D
REFRESH-INTERVAL:P3D
CALSCALE:GREGORIAN
BEGIN:VEVENT
DTSTART;VALUE=DATE:20091127
DTEND;VALUE=DATE:20091129
TRANSP:TRANSPARENT
X-MICROSOFT-CDO-ALLDAYEVENT:TRUE
SUMMARY:Christmas in Bartlett
DESCRIPTION:Great First Annual Craft show at the Municipal Center on the other side of the railroad tracks\, behind the new Bartlett Library.  Please plan on coming to see variety of "one of a kind" unique gifts for the holidays.This is being held on the Friday and Saturday after Thanksgiving.If interested in a booth\, contact Lisa Johnson.
X-ALT-DESC;FMTTYPE=text/html:<div><p>Great First Annual Craft show at the Municipal Center on the other side of the railroad tracks\, behind the new Bartlett Library.&nbsp\; Please plan on coming to see variety of &quot\;one of a kind&quot\; unique gifts for the holidays.</p><p>This is being held on the Friday and Saturday after Thanksgiving.</p><p>If interested in a booth\, contact Lisa Johnson.&nbsp\;</p></div>
LOCATION:Bartlett Station Municipal Center5868 Stage Road (next to Bartlett Library)
UID:e.105.943
SEQUENCE:3
DTSTAMP:20260419T173348Z
URL:https://business.bartlettchamber.org/events/details/christmas-in-bartlett-11-27-2009-943
END:VEVENT

END:VCALENDAR
