BEGIN:VCALENDAR
VERSION:2.0
PRODID:-//ChamberMaster//Event Calendar 2.0//EN
METHOD:PUBLISH
X-PUBLISHED-TTL:P3D
REFRESH-INTERVAL:P3D
CALSCALE:GREGORIAN
BEGIN:VEVENT
DTSTART;VALUE=DATE:20090925
DTEND;VALUE=DATE:20090928
TRANSP:TRANSPARENT
X-MICROSOFT-CDO-ALLDAYEVENT:TRUE
SUMMARY:City-Wide SIDEWALK SALE
DESCRIPTION:City-Wide SIDEWALK SALE!\nIn conjunction with the Bartlett Festival! Keep the excitement going throughout the weekend with all the guests and visitors coming for the Festival!\nSeptember 25th - 27th\nThe Board of Mayor and Alderman approved the use of tents and outdoor selling for this weekend only!\nFor more information\, call the Chamber office at 372-9457.
X-ALT-DESC;FMTTYPE=text/html:<div><strong>City-Wide SIDEWALK SALE!<br /></strong>In conjunction with the Bartlett Festival! Keep the excitement going throughout the weekend with all the guests and visitors coming for the Festival!<br />September 25th - 27th<br />The Board of Mayor and Alderman approved the use of tents and outdoor selling for this weekend only!<br />For more information\, call the Chamber office at 372-9457.</div>
LOCATION:All through out the City of Bartlett.
UID:e.105.894
SEQUENCE:3
DTSTAMP:20260419T191213Z
URL:https://business.bartlettchamber.org/events/details/city-wide-sidewalk-sale-09-25-2009-894
END:VEVENT

END:VCALENDAR
