BEGIN:VCALENDAR
VERSION:2.0
PRODID:-//ChamberMaster//Event Calendar 2.0//EN
METHOD:PUBLISH
X-PUBLISHED-TTL:P3D
REFRESH-INTERVAL:P3D
CALSCALE:GREGORIAN
BEGIN:VEVENT
DTSTART:20070922T000000Z
DTEND:20070922T030000Z
X-MICROSOFT-CDO-ALLDAYEVENT:FALSE
SUMMARY:Dinner Stage Series - BPACC
DESCRIPTION:The Dinner Stage Series is a wonderfully intimate opportunity for the audience to join the entertainers on stage for a cabaret-style dinner show which includes a catered buffet dinner and featured performers.  This season's series kicks off with HARMONIOUS WAIL who brings the tradition of Gypsy Jazz to life with refreshing energy and undeniable passion. An eclectic blend of jazz\, Eastern European gypsy swing\, American jazz standards\, and contemporary folk is used to create the distinctive sound of Harmonious Wail.  Drawing from the rich influence of most notably Django Reinhardt and Stephane Grappelli\, The Wail's intoxicating arrangements and shear joy of Gypsy Swing is downright addictive.  The Wail is comprised of mandolin\, guitar\, bass\, and the vocal excellence of Maggie Delaney-Potthoff.  Maggie exudes confidence and ease in both powerhouse tunes and ballads as a captivating performer.  Sims Delaney-Potthoff is the founder\, the leader\, and the mandolinist of Harmonious Wail.  Sims is a true artist of the mandolin.  Guitarist and vocalist Tom Waselchuk has played a variety of music including jazz\, folk\, blues\, western swing\, and honky-tonk.  Regardless of the style his music is always breathtaking.  John Christensen brings a sense of harmony and swing to the group with his rock-solid bass.  With this partnership of superb musicianship\, infused by a common belief in the joy and power of music\, and rooted in strong personal friendships\, Harmonious Wail is indeed a rare ensemble best experienced live and in person.
X-ALT-DESC;FMTTYPE=text/html:<div><font size="2"><span style="font-size: 11pt">The Dinner Stage Series is a wonderfully intimate opportunity for the audience to join the entertainers on stage for a cabaret-style dinner show which includes a catered buffet dinner and featured performers.&nbsp\; This season&rsquo\;s series kicks off with <strong><span style="font-weight: bold">HARMONIOUS WAIL</span></strong> who brings the tradition of Gypsy Jazz to life with refreshing energy and undeniable passion.</span></font></div><div><font size="2">&nbsp\;</font></div><div><font size="2"><span style="font-size: 11pt">An eclectic blend of jazz\, Eastern European gypsy swing\, American jazz standards\, and contemporary folk is used to create the distinctive sound of Harmonious Wail.&nbsp\; Drawing from the rich influence of most notably Django Reinhardt and Stephane Grappelli\, The Wail&rsquo\;s intoxicating arrangements and shear joy of Gypsy Swing is downright addictive.&nbsp\; The Wail is comprised of mandolin\, guitar\, bass\, and the vocal excellence of Maggie Delaney-Potthoff.&nbsp\; Maggie exudes confidence and ease in both powerhouse tunes and ballads as a captivating performer.&nbsp\; Sims Delaney-Potthoff is the founder\, the leader\, and the mandolinist of Harmonious Wail.&nbsp\; Sims is a true artist of the mandolin.&nbsp\; Guitarist and vocalist Tom Waselchuk has played a variety of music including jazz\, folk\, blues\, western swing\, and honky-tonk.&nbsp\; Regardless of the style his music is always breathtaking.&nbsp\; John Christensen brings a sense of harmony and swing to the group with his rock-solid bass.&nbsp\; With this partnership of superb musicianship\, infused by a common belief in the joy and power of music\, and rooted in strong personal friendships\, Harmonious Wail is indeed a rare ensemble best experienced live and in person.</span></font></div>
LOCATION:Bartlett Performing Arts and Conference Center3663 Appling Roadone block south of Summer Avenue
UID:e.105.359
SEQUENCE:3
DTSTAMP:20260421T072833Z
URL:https://business.bartlettchamber.org/events/details/dinner-stage-series-bpacc-09-21-2007-359
END:VEVENT

END:VCALENDAR
