BEGIN:VCALENDAR
VERSION:2.0
PRODID:-//ChamberMaster//Event Calendar 2.0//EN
METHOD:PUBLISH
X-PUBLISHED-TTL:P3D
REFRESH-INTERVAL:P3D
CALSCALE:GREGORIAN
BEGIN:VEVENT
DTSTART;VALUE=DATE:20220825
DTEND;VALUE=DATE:20220826
TRANSP:TRANSPARENT
X-MICROSOFT-CDO-ALLDAYEVENT:TRUE
SUMMARY:Greece Trip Open House
DESCRIPTION:OPEN HOUSE TO LEARN ABOUT\n\n                                GREECE--THE LAND OF GODS AND HEROES\n\n\n\nCome join us to learn about how you as a Chamber member can travel to Greece next year through an arrangement the BACC has with Aventura World. The BACC has participated for many years in similar "travel abroad" programs and our members have never been disappointed!\n\n\n\nThe open house will feature a speaker from Adventura World who will describe the activities and amenities of the trip\, which is scheduled from March 24 to April 1--9 days and 7 nights.\n\n\n\nSome of the destination highlights include viewing historic archaeological sites\, visits to the Oracle Museum and the Museum of Delphi\, a trip to the island of Santorini\, tours of the Acropolis and Parthenon\, Temples of Hera and Zeus\, and much more.
X-ALT-DESC;FMTTYPE=text/html:&nbsp\; &nbsp\; &nbsp\; &nbsp\; &nbsp\; &nbsp\; &nbsp\; &nbsp\; &nbsp\; &nbsp\; &nbsp\; &nbsp\; &nbsp\; &nbsp\; &nbsp\; &nbsp\; &nbsp\;<strong>&nbsp\; &nbsp\; &nbsp\; &nbsp\; &nbsp\;OPEN HOUSE TO LEARN ABOUT</strong><br />\n&nbsp\; &nbsp\; &nbsp\; &nbsp\; &nbsp\; &nbsp\; &nbsp\; &nbsp\; &nbsp\; &nbsp\; &nbsp\; &nbsp\; &nbsp\; &nbsp\; &nbsp\; &nbsp\;&nbsp\;<span style="font-size:14px\;"><strong>GREECE--THE LAND OF GODS AND HEROES</strong></span><br />\n<br />\nCome join us to learn about how <em>you </em>as a Chamber member can travel to Greece next year through an arrangement the BACC has with Aventura World. The BACC has participated for many years in similar &quot\;travel abroad&quot\; programs and our members have never been disappointed!<br />\n<br />\nThe open house will feature a speaker from Adventura World who will describe the activities and amenities of the trip\, which is scheduled from March 24 to April 1--9 days and 7 nights.<br />\n<br />\nSome of the destination highlights include viewing historic archaeological sites\, visits to the Oracle Museum and the Museum of Delphi\, a trip to the island of Santorini\, tours of the Acropolis and Parthenon\, Temples of Hera and Zeus\, and much more.<br />\n<br />\n&nbsp\;<br />\n&nbsp\;
LOCATION:The open house will be held at the chamber office at 2969 Elmore Park Road.
UID:e.105.8464
SEQUENCE:3
DTSTAMP:20260420T161641Z
URL:https://business.bartlettchamber.org/events/details/greece-trip-open-house-8464
END:VEVENT

END:VCALENDAR
