BEGIN:VCALENDAR
VERSION:2.0
PRODID:-//ChamberMaster//Event Calendar 2.0//EN
METHOD:PUBLISH
X-PUBLISHED-TTL:P3D
REFRESH-INTERVAL:P3D
CALSCALE:GREGORIAN
BEGIN:VEVENT
DTSTART:20091216T200000Z
DTEND:20091216T220000Z
X-MICROSOFT-CDO-ALLDAYEVENT:FALSE
SUMMARY:Holiday Heroes Party
DESCRIPTION:This is time to meet your child from Youth Villages and to give them their wrapped Christmas presents! Registration begins at 1:30. Be sure the child's name and cottage number is on the outside of every gift.\n\n \n\nIf you cannot make it to this party and you've shopped for a child\, bring your wrapped presents to the Chamber office by Tuesday\, December 15th! It is VERY IMPORTANT that your child has his presents when everyone else does!
X-ALT-DESC;FMTTYPE=text/html:<div>This is time to meet your child from Youth Villages and to give them their wrapped Christmas presents! Registration begins at 1:30. Be sure the child&rsquo\;s name and cottage number is on the outside of every gift.</div>\n\n<div>&nbsp\;</div>\n\n<div>If you cannot make it to this party and you&rsquo\;ve shopped for a child\, bring your wrapped presents to the Chamber office by Tuesday\, December 15th! <span style="font-size: medium\;">It is VERY IMPORTANT that your child has his presents when everyone else does!</span></div>\n
LOCATION:Youth Villages / Boys Town Gym 7410 Memphis Arlington Road Gym is towards the right in the back of campus
UID:e.105.69
SEQUENCE:3
DTSTAMP:20260419T144317Z
URL:https://business.bartlettchamber.org/events/details/holiday-heroes-party-12-16-2009-69
END:VEVENT

END:VCALENDAR
