BEGIN:VCALENDAR
VERSION:2.0
PRODID:-//ChamberMaster//Event Calendar 2.0//EN
METHOD:PUBLISH
X-PUBLISHED-TTL:P3D
REFRESH-INTERVAL:P3D
CALSCALE:GREGORIAN
BEGIN:VEVENT
DTSTART:20090515T160000Z
DTEND:20090515T180000Z
X-MICROSOFT-CDO-ALLDAYEVENT:FALSE
SUMMARY:Industry Appreciation Picnic
DESCRIPTION:Bartlett Area Chamber\, City of Bartlett and the Chamber's Strategic Partners bring you the annual Industry Appreciation Picnic.  This is a great way to get to know your Corporate Park neighbors. You and your staff are invited for a free cook-out with entertainment and door prizes.  Just be sure to RSVP!\n\nFood Sponsors: Brim's Snack Foods\, Wal-Mart Neighborhood Market\, Wal-Mart SuperCenter
X-ALT-DESC;FMTTYPE=text/html:<div><font size="3">Bartlett Area Chamber\, City of Bartlett and the Chamber's Strategic Partners bring you the annual Industry Appreciation Picnic.&nbsp\; This is a great way to get to know your Corporate Park neighbors. You and your staff are invited for a free cook-out with entertainment and door prizes.&nbsp\; Just be sure to RSVP!<br /><br /></font><font size="2">Food Sponsors: Brim&rsquo\;s Snack Foods\, Wal-Mart Neighborhood Market\, Wal-Mart SuperCenter<br /></font></div>
LOCATION:Picnic grounds of Brother 7777 N. Brother Blvd.
UID:e.105.131
SEQUENCE:3
DTSTAMP:20260420T023444Z
URL:https://business.bartlettchamber.org/events/details/industry-appreciation-picnic-05-15-2009-131
END:VEVENT

END:VCALENDAR
