BEGIN:VCALENDAR
VERSION:2.0
PRODID:-//ChamberMaster//Event Calendar 2.0//EN
METHOD:PUBLISH
X-PUBLISHED-TTL:P3D
REFRESH-INTERVAL:P3D
CALSCALE:GREGORIAN
BEGIN:VEVENT
DTSTART:20070501T170000Z
DTEND:20070501T180000Z
X-MICROSOFT-CDO-ALLDAYEVENT:FALSE
SUMMARY:Leadership Bartlett Alumni Meeting
DESCRIPTION:Come have lunch with your fellow Leadership Bartlett Alumni. Keeping  in touch and doing business with each other is the name of the game!
X-ALT-DESC;FMTTYPE=text/html:Come have lunch with your fellow Leadership Bartlett Alumni. Keeping  in touch and doing business with each other is the name of the game!
LOCATION:Jim's Place East 5560 Shelby Oaks Drive
UID:e.105.119
SEQUENCE:3
DTSTAMP:20260423T132502Z
URL:https://business.bartlettchamber.org/events/details/leadership-bartlett-alumni-meeting-05-01-2007-119
END:VEVENT

END:VCALENDAR
