BEGIN:VCALENDAR
VERSION:2.0
PRODID:-//ChamberMaster//Event Calendar 2.0//EN
METHOD:PUBLISH
X-PUBLISHED-TTL:P3D
REFRESH-INTERVAL:P3D
CALSCALE:GREGORIAN
BEGIN:VEVENT
DTSTART:20070607T233000Z
DTEND:20070608T010000Z
X-MICROSOFT-CDO-ALLDAYEVENT:FALSE
SUMMARY:Leadership Bartlett Graduation
DESCRIPTION:Leadership Bartlett Alumni - come congratulate the 2007 Leadership Class and welcome them into the Alumni Association at a reception in their honor.
X-ALT-DESC;FMTTYPE=text/html:Leadership Bartlett Alumni - come congratulate the 2007 Leadership Class and welcome them into the Alumni Association at a reception in their honor.
LOCATION:Jim's Place East 5560 Shelby Oaks Drive
UID:e.105.117
SEQUENCE:3
DTSTAMP:20260423T114652Z
URL:https://business.bartlettchamber.org/events/details/leadership-bartlett-graduation-06-07-2007-117
END:VEVENT

END:VCALENDAR
