BEGIN:VCALENDAR
VERSION:2.0
PRODID:-//ChamberMaster//Event Calendar 2.0//EN
METHOD:PUBLISH
X-PUBLISHED-TTL:P3D
REFRESH-INTERVAL:P3D
CALSCALE:GREGORIAN
BEGIN:VEVENT
DTSTART:20100129T150000Z
DTEND:20100129T210000Z
X-MICROSOFT-CDO-ALLDAYEVENT:FALSE
SUMMARY:Lifeblood Drive at the Chamber
DESCRIPTION:Please pre-register for a time to come give blood - 372-9457. Be a Donor!Give blood ~ Give Life!
X-ALT-DESC;FMTTYPE=text/html:<div>Please pre-register for a time to come give blood - 372-9457.</div><div>&nbsp\;</div><div>Be a Donor!</div><p>Give blood&nbsp\;~ Give Life!</p>
LOCATION:Bartlett Arera Chamber Offcie - Parking Lot2969 Elmore Park Roadacross from Post Office
UID:e.105.1103
SEQUENCE:3
DTSTAMP:20260419T132412Z
URL:https://business.bartlettchamber.org/events/details/lifeblood-drive-at-the-chamber-01-29-2010-1103
END:VEVENT

END:VCALENDAR
