BEGIN:VCALENDAR
VERSION:2.0
PRODID:-//ChamberMaster//Event Calendar 2.0//EN
METHOD:PUBLISH
X-PUBLISHED-TTL:P3D
REFRESH-INTERVAL:P3D
CALSCALE:GREGORIAN
BEGIN:VEVENT
DTSTART:20091120T010000Z
DTEND:20091124T040000Z
X-MICROSOFT-CDO-ALLDAYEVENT:FALSE
SUMMARY:''M*A*S*H''
DESCRIPTION:Bolton Stage Light Theatre presents ''M*A*S*H"\, an Army based comedy following the two best chest surgeons in South Korea\, Hawkeye and Duke.Not only will you laugh until you cry\, you might even be genuinely touched by the romance thrown into the mix. Thursday\, Friday\, Saturday and Monday night 7:00 p.m.Sunday afternoon 2:00 p.m.
X-ALT-DESC;FMTTYPE=text/html:<div>Bolton Stage Light Theatre presents ''M*A*S*H&quot\;\, an Army based comedy following the two best chest surgeons in South Korea\, Hawkeye and Duke.</div><div>Not only will you laugh until you cry\, you might even be genuinely touched by the romance thrown into the mix.</div><div>&nbsp\;</div><div>Thursday\, Friday\, Saturday and Monday&nbsp\;night 7:00 p.m.</div><div>Sunday afternoon 2:00 p.m.</div><div>&nbsp\;</div>
LOCATION:Bolton High School Stage Light Theatre7323 Brunswick RoadArlington TN
UID:e.105.61
SEQUENCE:3
DTSTAMP:20260419T173236Z
URL:https://business.bartlettchamber.org/events/details/m-a-s-h-11-19-2009-61
END:VEVENT

END:VCALENDAR
