BEGIN:VCALENDAR
VERSION:2.0
PRODID:-//ChamberMaster//Event Calendar 2.0//EN
METHOD:PUBLISH
X-PUBLISHED-TTL:P3D
REFRESH-INTERVAL:P3D
CALSCALE:GREGORIAN
BEGIN:VEVENT
DTSTART:20080909T163000Z
DTEND:20080909T180000Z
X-MICROSOFT-CDO-ALLDAYEVENT:FALSE
SUMMARY:Monthly Lunch Meeting 09-09-2008
DESCRIPTION:Speaker: Bartlett Mayor A. Keith McDonald\n\nSponsor: Methodist Healthcare North Hospital\n\n \n\n$20 buffet. RSVP 372-9457.
X-ALT-DESC;FMTTYPE=text/html:<div><strong>Speaker: </strong>Bartlett Mayor A. Keith McDonald</div>\n\n<div><strong>Sponsor:</strong> Methodist Healthcare North Hospital</div>\n\n<div>&nbsp\;</div>\n\n<div>$20 buffet. RSVP 372-9457.</div>\n
LOCATION:Holiday Inn & Suites 2751 New Brunswick
UID:e.105.66
SEQUENCE:3
DTSTAMP:20260420T141258Z
URL:https://business.bartlettchamber.org/events/details/monthly-lunch-meeting-09-09-2008-09-09-2008-66
END:VEVENT

END:VCALENDAR
