BEGIN:VCALENDAR
VERSION:2.0
PRODID:-//ChamberMaster//Event Calendar 2.0//EN
METHOD:PUBLISH
X-PUBLISHED-TTL:P3D
REFRESH-INTERVAL:P3D
CALSCALE:GREGORIAN
BEGIN:VEVENT
DTSTART:20070905T200000Z
DTEND:20070905T230000Z
X-MICROSOFT-CDO-ALLDAYEVENT:FALSE
SUMMARY:New Member Reception
DESCRIPTION:Following the 2007 Membership Campaign\, the Chamber staff and Board of Directors welcome all the new members (and any old that would like to join us) to a reception in your honor!  It's a get-to-know-you event that you may come and go as you please!We appreciate your investment!
X-ALT-DESC;FMTTYPE=text/html:<p>Following the 2007 Membership Campaign\,&nbsp\;the Chamber staff and Board of Directors&nbsp\;welcome all the new members (and any old that would like to join us) to a reception in your honor!&nbsp\; It's a get-to-know-you event that you may come and go as you please!</p><p>We appreciate your investment!</p>
LOCATION:Bartlett Area Chamber Office2969 Elmore Park Roadacross from the Post Office
UID:e.105.126
SEQUENCE:3
DTSTAMP:20260421T071943Z
URL:https://business.bartlettchamber.org/events/details/new-member-reception-09-05-2007-126
END:VEVENT

END:VCALENDAR
