BEGIN:VCALENDAR
VERSION:2.0
PRODID:-//ChamberMaster//Event Calendar 2.0//EN
METHOD:PUBLISH
X-PUBLISHED-TTL:P3D
REFRESH-INTERVAL:P3D
CALSCALE:GREGORIAN
BEGIN:VEVENT
DTSTART:20070504T230000Z
DTEND:20070505T230000Z
X-MICROSOFT-CDO-ALLDAYEVENT:FALSE
SUMMARY:Pickin' Picnic Blue Grass Festival
DESCRIPTION:The FIFTH annual two-day spring festival celebrating the great traditions of bluegrass and paying tribute to our own Lucy Opry. Bring your picnic baskets\, blankets and lawn chairs for the free outdoor performances Friday night and Saturday by some of the best regional bluegrass bands\, and then move indoors for the ticketed grand finale Saturday night at 8PM featuring the legendary Tony Rice and Peter Rowan. The delicate interplay of Rowan's melodic voice and Rice's unrivaled flat-picking complement each other perfectly. Don't forget to bring your own musical instruments and join-in on the "pickin' ".
X-ALT-DESC;FMTTYPE=text/html:The&nbsp\;FIFTH annual two-day spring festival celebrating the great traditions of bluegrass and paying tribute to our own Lucy Opry. Bring your picnic baskets\, blankets and lawn chairs for the free outdoor performances Friday night and Saturday by some of the best regional bluegrass bands\, and then move indoors for the ticketed grand finale Saturday night at 8PM featuring the legendary <span class="blackTextBold">Tony Rice and Peter Rowan. </span>The delicate interplay of Rowan's melodic voice and Rice's unrivaled flat-picking complement each other perfectly. Don't forget to bring your own musical instruments and join-in on the &quot\;pickin' &quot\;.
LOCATION:on the grounds of Bartlett Performing Arts & Conference Center 3663 Appling Road south of Summer Avenue
UID:e.105.110
SEQUENCE:3
DTSTAMP:20260423T132642Z
URL:https://business.bartlettchamber.org/events/details/pickin-picnic-blue-grass-festival-05-04-2007-110
END:VEVENT

END:VCALENDAR
