BEGIN:VCALENDAR
VERSION:2.0
PRODID:-//ChamberMaster//Event Calendar 2.0//EN
METHOD:PUBLISH
X-PUBLISHED-TTL:P3D
REFRESH-INTERVAL:P3D
CALSCALE:GREGORIAN
BEGIN:VEVENT
DTSTART:20240925T163000Z
DTEND:20240925T170000Z
X-MICROSOFT-CDO-ALLDAYEVENT:FALSE
SUMMARY:Ribbon Cutting - BH& M Environmental Consultants
DESCRIPTION:Ribbon Cutting - BH& M Environmental Consultants\n\n\nWednesday\, September 25\, 2024 - 11:30 am CST\n\n \nJoin us for BH& M Environmental Consultants' ribbon cutting and help us give them a warm welcome to the Bartlett Chamber.\n\n\nLearn more: http://www.bhmenviro.com/
X-ALT-DESC;FMTTYPE=text/html:<div><strong style="font-size: 18px\;">Ribbon Cutting - </strong><strong><span style="font-size:18px\;"><span style="color: rgb(0\, 0\, 0)\; font-family: aptos\;">BH&amp\; M Environmental Consultants</span></span></strong></div>\n<br />\n<strong><span style="font-size:14px\;"><span style="font-family:arial\;">Wednesday\, September 25\, 2024 - 11:30 am CST</span></span></strong><br />\n&nbsp\;\n<div><span style="font-family:arial\;"><span style="font-size:16px\;">Join us for BH&amp\; M Environmental Consultants&#39\;&nbsp\;ribbon cutting and help us give them a warm welcome to the Bartlett Chamber.</span></span></div>\n<br />\n<span style="font-size:14px\;">Learn more: http://www.bhmenviro.com/</span><br />\n<br />\n<br />\n<br />\n<br />\n<br />\n&nbsp\;
LOCATION:3775 Covington Pike\, Memphis\, TN 38135
UID:e.105.8621
SEQUENCE:3
DTSTAMP:20260425T234715Z
URL:https://business.bartlettchamber.org/events/details/ribbon-cutting-bh-m-environmental-consultants-8621
END:VEVENT

END:VCALENDAR
