BEGIN:VCALENDAR
VERSION:2.0
PRODID:-//ChamberMaster//Event Calendar 2.0//EN
METHOD:PUBLISH
X-PUBLISHED-TTL:P3D
REFRESH-INTERVAL:P3D
CALSCALE:GREGORIAN
BEGIN:VEVENT
DTSTART:20100202T200000Z
DTEND:20100202T203000Z
X-MICROSOFT-CDO-ALLDAYEVENT:FALSE
SUMMARY:Ribbon Cutting for Bartlett Area Toastmasters
DESCRIPTION:Ribbon Cutting for Bartlett Area Toastmasters
X-ALT-DESC;FMTTYPE=text/html:<div>Ribbon Cutting for Bartlett Area Toastmasters</div>
LOCATION:Chamber Office2969 Elmore Park Road
UID:e.105.1133
SEQUENCE:3
DTSTAMP:20260419T114549Z
URL:https://business.bartlettchamber.org/events/details/ribbon-cutting-for-bartlett-area-toastmasters-02-02-2010-1133
END:VEVENT

END:VCALENDAR
