BEGIN:VCALENDAR
VERSION:2.0
PRODID:-//ChamberMaster//Event Calendar 2.0//EN
METHOD:PUBLISH
X-PUBLISHED-TTL:P3D
REFRESH-INTERVAL:P3D
CALSCALE:GREGORIAN
BEGIN:VEVENT
DTSTART:20091022T190000Z
DTEND:20091022T200000Z
X-MICROSOFT-CDO-ALLDAYEVENT:FALSE
SUMMARY:Ribbon Cutting for The Growth Coach
DESCRIPTION:Ribbon Cutting for The Growth Coach
X-ALT-DESC;FMTTYPE=text/html:<div>Ribbon Cutting for The Growth Coach</div>
LOCATION:2840 Summer Oaks #103
UID:e.105.948
SEQUENCE:3
DTSTAMP:20260419T173713Z
URL:https://business.bartlettchamber.org/events/details/ribbon-cutting-for-the-growth-coach-10-22-2009-948
END:VEVENT

END:VCALENDAR
