BEGIN:VCALENDAR
VERSION:2.0
PRODID:-//ChamberMaster//Event Calendar 2.0//EN
METHOD:PUBLISH
X-PUBLISHED-TTL:P3D
REFRESH-INTERVAL:P3D
CALSCALE:GREGORIAN
BEGIN:VEVENT
DTSTART:20100114T160000Z
DTEND:20100114T170000Z
X-MICROSOFT-CDO-ALLDAYEVENT:FALSE
SUMMARY:Ribbon Cutting for Translators\, Inc.
DESCRIPTION:Ribbon Cutting for Translators\, Inc.
X-ALT-DESC;FMTTYPE=text/html:<div>Ribbon Cutting for Translators\, Inc.</div>
LOCATION:Chamber Office2969 Elmore Park Road
UID:e.105.1128
SEQUENCE:3
DTSTAMP:20260419T144246Z
URL:https://business.bartlettchamber.org/events/details/ribbon-cutting-for-translators-inc-01-14-2010-1128
END:VEVENT

END:VCALENDAR
