BEGIN:VCALENDAR
VERSION:2.0
PRODID:-//ChamberMaster//Event Calendar 2.0//EN
METHOD:PUBLISH
X-PUBLISHED-TTL:P3D
REFRESH-INTERVAL:P3D
CALSCALE:GREGORIAN
BEGIN:VEVENT
DTSTART:20100330T190000Z
DTEND:20100330T200000Z
X-MICROSOFT-CDO-ALLDAYEVENT:FALSE
SUMMARY:Ribbon Cutting - UFK Urban Fitness Kickboxing
DESCRIPTION:Join us as we celebrate the ribbon cutting for UFK - Urban Fitness Kickboxing.
X-ALT-DESC;FMTTYPE=text/html:<div>Join us as we celebrate the ribbon cutting for UFK - Urban Fitness Kickboxing.</div>
LOCATION:6838 Highway 70Bartlett
UID:e.105.1146
SEQUENCE:3
DTSTAMP:20260423T085354Z
URL:https://business.bartlettchamber.org/events/details/ribbon-cutting-ufk-urban-fitness-kickboxing-03-30-2010-1146
END:VEVENT

END:VCALENDAR
