BEGIN:VCALENDAR
VERSION:2.0
PRODID:-//ChamberMaster//Event Calendar 2.0//EN
METHOD:PUBLISH
X-PUBLISHED-TTL:P3D
REFRESH-INTERVAL:P3D
CALSCALE:GREGORIAN
BEGIN:VEVENT
DTSTART:20080411T010000Z
DTEND:20080413T200000Z
X-MICROSOFT-CDO-ALLDAYEVENT:FALSE
SUMMARY:''The Odd Couple''
DESCRIPTION:Bartlett Community Theatre's Dinner Theater show. This humorous play by Neil Simon is an event you won't want to miss! Performances: Thursday\, Friday and Saturday evenings 8:00 p.m.Matinee Sunday 3:00 p.m.  Dates are 4/10/08 - 4/13/08.
X-ALT-DESC;FMTTYPE=text/html:<div>Bartlett Community Theatre&rsquo\;s&nbsp\;Dinner Theater&nbsp\;show. This humorous play by Neil Simon is an event you won&rsquo\;t want to miss! Performances: Thursday\, Friday and Saturday evenings&nbsp\;8:00 p.m.</div><div>Matinee Sunday 3:00 p.m.&nbsp\; Dates are 4/10/08 - 4/13/08.</div>
LOCATION:Bartlett Performing Arts & Conference Center\, 3663 Appling\, Bartlett\, TN 38133
UID:e.105.846
SEQUENCE:3
DTSTAMP:20260420T202110Z
URL:https://business.bartlettchamber.org/events/details/the-odd-couple-04-10-2008-846
END:VEVENT

END:VCALENDAR
