BEGIN:VCALENDAR
VERSION:2.0
PRODID:-//ChamberMaster//Event Calendar 2.0//EN
METHOD:PUBLISH
X-PUBLISHED-TTL:P3D
REFRESH-INTERVAL:P3D
CALSCALE:GREGORIAN
BEGIN:VEVENT
DTSTART:20090627T130000Z
DTEND:20090627T170000Z
X-MICROSOFT-CDO-ALLDAYEVENT:FALSE
SUMMARY:The UPS Ultimate 10K & 5K
DESCRIPTION:This race at Davies Plantation Subdivision will benefit Youth Villages.  It will have awards in all categories as in typical sanctioned races. Title Sponsor is UPS. Other Sponsors are Memphis Runners Track Club\, Davies Plantation Homeowners Association and the Bartlett Area Chamber of Commerce
X-ALT-DESC;FMTTYPE=text/html:<div>This race at Davies Plantation Subdivision will benefit Youth Villages.&nbsp\; It will have awards in all categories as in typical sanctioned races.</div><div>&nbsp\;</div><div>Title Sponsor is UPS.</div><div>&nbsp\;</div><div>Other Sponsors are Memphis Runners Track Club\, Davies Plantation Homeowners Association and the Bartlett Area Chamber of Commerce</div>
LOCATION:Gather at St. Philip Episcopal Church at 9380 Davies Plantation Road for registration and race start. Race Packets may be picked up Race Day between 6am and 7:30am at the race site\, St. Philip Church.
UID:e.105.728
SEQUENCE:3
DTSTAMP:20260419T233808Z
URL:https://business.bartlettchamber.org/events/details/the-ups-ultimate-10k-5k-06-27-2009-728
END:VEVENT

END:VCALENDAR
