BEGIN:VCALENDAR
VERSION:2.0
PRODID:-//ChamberMaster//Event Calendar 2.0//EN
METHOD:PUBLISH
X-PUBLISHED-TTL:P3D
REFRESH-INTERVAL:P3D
CALSCALE:GREGORIAN
BEGIN:VEVENT
DTSTART:20091111T160000Z
DTEND:20091111T170000Z
X-MICROSOFT-CDO-ALLDAYEVENT:FALSE
SUMMARY:Veteran's Day Ceremony
DESCRIPTION:
X-ALT-DESC;FMTTYPE=text/html:
LOCATION:Veteran's Memorial ParkCorner of Bartlett Blvd and Bartlett Road
UID:e.105.944
SEQUENCE:3
DTSTAMP:20260419T160220Z
URL:https://business.bartlettchamber.org/events/details/veteran-s-day-ceremony-11-11-2009-944
END:VEVENT

END:VCALENDAR
