BEGIN:VCALENDAR
VERSION:2.0
PRODID:-//ChamberMaster//Event Calendar 2.0//EN
METHOD:PUBLISH
X-PUBLISHED-TTL:P3D
REFRESH-INTERVAL:P3D
CALSCALE:GREGORIAN
BEGIN:VEVENT
DTSTART:20070421T123000Z
DTEND:20070421T163000Z
X-MICROSOFT-CDO-ALLDAYEVENT:FALSE
SUMMARY:Youth Villages 5K Run/Walk
DESCRIPTION:The 25th Annual Youth Villages 5K Run/Walk course winds through East Memphis' most scenic neighborhoods and finishes at Ridgeway Center.\nVOLUNTEERS: Please visit www.youthvillages5k.com.   SPONSORS INCLUDE:  Memphis Area Association of REALTORS (MAAR)\, The Commercial Appeal\; Jaco Bryant Printers\; Ridgeway Center/ Boyle Investment Company\; WRVR 104 The River\; and The Hoke and Mary Leigh Trust.
X-ALT-DESC;FMTTYPE=text/html:<font size="3">The 25th Annual Youth Villages 5K Run/Walk course winds through East Memphis&rsquo\; most scenic neighborhoods and finishes at Ridgeway Center.<br /></font><p><font size="3"><strong>VOLUNTEERS</strong>: Please visit </font><a href="http://www.youthvillages5k.com/"><font color="#810081" size="3">www.youthvillages5k.com</font></a><font size="3">.&nbsp\;&nbsp\; </font></p><p><font size="3"><strong>SPONSORS INCLUDE</strong>: &nbsp\;Memphis Area Association of REALTORS (MAAR)\, The Commercial Appeal\; Jaco Bryant Printers\; Ridgeway Center/ Boyle Investment Company\;&nbsp\;WRVR 104 The River\; and&nbsp\;The Hoke and Mary Leigh Trust.</font></p>
LOCATION:Ridgeway Center
UID:e.105.132
SEQUENCE:3
DTSTAMP:20260423T150105Z
URL:https://business.bartlettchamber.org/events/details/youth-villages-5k-run-walk-04-21-2007-132
END:VEVENT

END:VCALENDAR
