BEGIN:VCALENDAR
VERSION:2.0
PRODID:-//ChamberMaster//Event Calendar 2.0//EN
METHOD:PUBLISH
X-PUBLISHED-TTL:P3D
REFRESH-INTERVAL:P3D
CALSCALE:GREGORIAN
BEGIN:VEVENT
DTSTART:20091205T000000Z
DTEND:20091205T020000Z
X-MICROSOFT-CDO-ALLDAYEVENT:FALSE
SUMMARY:Yuletide Tree Lighting
DESCRIPTION:Live entertainment begins the evening and then Santa and Mrs. Claus shows up to light the city's Christmas tree.  Come inside and enjoy refreshments and get your picture taken with the Clauses (bring your own camera or buy a picture)!
X-ALT-DESC;FMTTYPE=text/html:Live entertainment begins the evening and then Santa and Mrs. Claus shows up to light the city's Christmas tree.  Come inside and enjoy refreshments and get your picture taken with the Clauses (bring your own camera or buy a picture)!
LOCATION:Singleton Community Center 7266 Third Street Bartlett
UID:e.105.72
SEQUENCE:3
DTSTAMP:20260419T143457Z
URL:https://business.bartlettchamber.org/events/details/yuletide-tree-lighting-12-04-2009-72
END:VEVENT

END:VCALENDAR
